BEGIN:VCALENDAR
PRODID:-//eluceo/ical//2.0/EN
VERSION:2.0
CALSCALE:GREGORIAN
BEGIN:VEVENT
UID:6a591dce04631c41904045783350f04e
DTSTAMP:20260420T180531Z
SUMMARY:Propos de table - Présentation d'un nouveau membre
DESCRIPTION:
URL:https://morges.rotary1990.ch/es/agenda/show/10827
DTSTART;TZID=Europe/Zurich:20090120T121500
DTEND;TZID=Europe/Zurich:20090120T121500
LOCATION:-
CATEGORIES:Rotary
END:VEVENT
BEGIN:VTIMEZONE
TZID:Europe/Zurich
BEGIN:STANDARD
DTSTART:20090120T121500
TZNAME:CET
TZOFFSETTO:+0100
TZOFFSETFROM:+0100
END:STANDARD
END:VTIMEZONE
END:VCALENDAR
