BEGIN:VCALENDAR
PRODID:-//eluceo/ical//2.0/EN
VERSION:2.0
CALSCALE:GREGORIAN
BEGIN:VEVENT
UID:29a63141a917f68b9621e5e2ace1b91c
DTSTAMP:20260420T205018Z
SUMMARY:Quelles alternatives pour une agriculture durable?
DESCRIPTION:Il y aura également ce jour-là\, à 19 h 30\, à l'Eglise Sai
 nt-François\, à Lausanne une escapade afin d'assister à une répétitio
 n générale de la Passion selon Saint Jean de Bach par l'OCL et le chœur
  des Gymnases dirigé par Olivier Piguet. Cette sortie est organisée par 
 georges Caille.\nOrador(es): Angel Rodriguez
URL:https://morges.rotary1990.ch/es/agenda/show/11464
DTSTART;TZID=Europe/Zurich:20090505T121500
DTEND;TZID=Europe/Zurich:20090505T121500
LOCATION:-
CATEGORIES:Rotary
END:VEVENT
BEGIN:VTIMEZONE
TZID:Europe/Zurich
BEGIN:DAYLIGHT
DTSTART:20090505T121500
TZNAME:CEST
TZOFFSETTO:+0200
TZOFFSETFROM:+0200
END:DAYLIGHT
END:VTIMEZONE
END:VCALENDAR
