BEGIN:VCALENDAR
PRODID:-//eluceo/ical//2.0/EN
VERSION:2.0
CALSCALE:GREGORIAN
BEGIN:VEVENT
UID:2ecd66663b7d356d04a8a72a11ad0a0a
DTSTAMP:20260421T055536Z
SUMMARY:Championnat du monde de motos
DESCRIPTION:Orador(es): Bernard Jonzier
URL:https://morges.rotary1990.ch/es/agenda/show/14013
DTSTART;TZID=Europe/Zurich:20100126T121500
DTEND;TZID=Europe/Zurich:20100126T141500
LOCATION:Hôtel du Mont-Blanc
CATEGORIES:Rotary
END:VEVENT
BEGIN:VTIMEZONE
TZID:Europe/Zurich
BEGIN:STANDARD
DTSTART:20100126T121500
TZNAME:CET
TZOFFSETTO:+0100
TZOFFSETFROM:+0100
END:STANDARD
END:VTIMEZONE
END:VCALENDAR
